BEGIN:VCALENDAR
VERSION:2.0
PRODID:-//Headwayadp - ECPv4.5.11//NONSGML v1.0//EN
CALSCALE:GREGORIAN
METHOD:PUBLISH
X-WR-CALNAME:Headwayadp
X-ORIGINAL-URL:https://headwayadp.org.au
X-WR-CALDESC:Events for Headwayadp
BEGIN:VEVENT
DTSTART;VALUE=DATE:20200127
DTEND;VALUE=DATE:20200127
DTSTAMP:20200228T051736
CREATED:20191121T050000Z
LAST-MODIFIED:20191121T050000Z
UID:6054-1580083200-1580169599@headwayadp.org.au
SUMMARY:Term Break
DESCRIPTION:
URL:https://headwayadp.org.au/event/term-break-32/
END:VEVENT
BEGIN:VEVENT
DTSTART;VALUE=DATE:20200128
DTEND;VALUE=DATE:20200128
DTSTAMP:20200228T051736
CREATED:20191121T231722Z
LAST-MODIFIED:20191121T231722Z
UID:6057-1580169600-1580255999@headwayadp.org.au
SUMMARY:Term Break
DESCRIPTION:
URL:https://headwayadp.org.au/event/term-break-33/
END:VEVENT
BEGIN:VEVENT
DTSTART;VALUE=DATE:20200129
DTEND;VALUE=DATE:20200129
DTSTAMP:20200228T051736
CREATED:20191121T231742Z
LAST-MODIFIED:20191121T231742Z
UID:6059-1580256000-1580342399@headwayadp.org.au
SUMMARY:Term Break
DESCRIPTION:
URL:https://headwayadp.org.au/event/term-break-34/
END:VEVENT
BEGIN:VEVENT
DTSTART;TZID=UTC+0:20200129T100000
DTEND;TZID=UTC+0:20200129T140000
DTSTAMP:20200228T051736
CREATED:20191112T233841Z
LAST-MODIFIED:20191112T233841Z
UID:5963-1580292000-1580306400@headwayadp.org.au
SUMMARY:Australia Day Celebrations
DESCRIPTION:Headway ADP will be celebrating our Nation’s National Day. Headway ADP invite you to attend a fun packed day at North Cronulla Beach\, meet the crew at Dunnigham Park at the Kingsway. Water Wheelchairs will also be available for you to access the beach. Bring a towel\, sunhat and your sunscreen \n
URL:https://headwayadp.org.au/event/australia-day-celebrations-2/
ATTACH;FMTTYPE=image/jpeg:https://headwayadp.org.au/wp-content/uploads/2019/11/cronulla-beach.jpg
END:VEVENT
BEGIN:VEVENT
DTSTART;VALUE=DATE:20200130
DTEND;VALUE=DATE:20200130
DTSTAMP:20200228T051736
CREATED:20191121T231828Z
LAST-MODIFIED:20191121T231828Z
UID:6061-1580342400-1580428799@headwayadp.org.au
SUMMARY:Term Break
DESCRIPTION:
URL:https://headwayadp.org.au/event/term-break-35/
END:VEVENT
BEGIN:VEVENT
DTSTART;VALUE=DATE:20200131
DTEND;VALUE=DATE:20200131
DTSTAMP:20200228T051736
CREATED:20191121T231853Z
LAST-MODIFIED:20191121T231853Z
UID:6063-1580428800-1580515199@headwayadp.org.au
SUMMARY:Term Break
DESCRIPTION:
URL:https://headwayadp.org.au/event/term-break-36/
END:VEVENT
BEGIN:VEVENT
DTSTART;VALUE=DATE:20200201
DTEND;VALUE=DATE:20200201
DTSTAMP:20200228T051736
CREATED:20191121T231919Z
LAST-MODIFIED:20191121T231919Z
UID:6065-1580515200-1580601599@headwayadp.org.au
SUMMARY:Term Break
DESCRIPTION:
URL:https://headwayadp.org.au/event/term-break-37/
END:VEVENT
BEGIN:VEVENT
DTSTART;VALUE=DATE:20200202
DTEND;VALUE=DATE:20200202
DTSTAMP:20200228T051736
CREATED:20191121T232023Z
LAST-MODIFIED:20191121T232023Z
UID:6067-1580601600-1580687999@headwayadp.org.au
SUMMARY:Term Break
DESCRIPTION:
URL:https://headwayadp.org.au/event/term-break-38/
END:VEVENT
BEGIN:VEVENT
DTSTART;TZID=UTC+0:20200203T080000
DTEND;TZID=UTC+0:20200203T170000
DTSTAMP:20200228T051736
CREATED:20191121T232215Z
LAST-MODIFIED:20191121T232215Z
UID:6069-1580716800-1580749200@headwayadp.org.au
SUMMARY:Term 1 Commences
DESCRIPTION:
URL:https://headwayadp.org.au/event/term-1-commences/
END:VEVENT
BEGIN:VEVENT
DTSTART;TZID=UTC+0:20200203T103000
DTEND;TZID=UTC+0:20200203T123000
DTSTAMP:20200228T051736
CREATED:20191122T013146Z
LAST-MODIFIED:20191122T013146Z
UID:6085-1580725800-1580733000@headwayadp.org.au
SUMMARY:Monday Cooking Group
DESCRIPTION:Our Cooking Group run each Monday and Tuesday. Each week there are new and easy to recipes to follow. Cook up a storm in our kitchen\, then share a meal and enjoy the company of your fellow participants. Happy Cooking! \n
URL:https://headwayadp.org.au/event/monday-cooking-group-31/
ATTACH;FMTTYPE=image/jpeg:https://headwayadp.org.au/wp-content/uploads/2019/11/cooking.jpg
END:VEVENT
BEGIN:VEVENT
DTSTART;TZID=UTC+0:20200204T103000
DTEND;TZID=UTC+0:20200204T123000
DTSTAMP:20200228T051736
CREATED:20191122T013233Z
LAST-MODIFIED:20191122T013313Z
UID:6088-1580812200-1580819400@headwayadp.org.au
SUMMARY:Tuesday Cooking Group
DESCRIPTION:Our Cooking Group run each Monday and Tuesday. Each week there are new and easy to recipes to follow. Cook up a storm in our kitchen\, then share a meal and enjoy the company of your fellow participants. Happy Cooking! \n
URL:https://headwayadp.org.au/event/tuesday-cooking-group-50/
ATTACH;FMTTYPE=image/jpeg:https://headwayadp.org.au/wp-content/uploads/2019/11/cooking.jpg
END:VEVENT
BEGIN:VEVENT
DTSTART;TZID=UTC+0:20200204T110000
DTEND;TZID=UTC+0:20200204T120000
DTSTAMP:20200228T051736
CREATED:20200108T221759Z
LAST-MODIFIED:20200108T221759Z
UID:6133-1580814000-1580817600@headwayadp.org.au
SUMMARY:Tuesday Ten Pin Bowling
DESCRIPTION:Come along and join our fun Ten Pin Bowling each Tuesday! Have a chat and a laugh with the group . Have a ball at bowling… go for a strike! \n
URL:https://headwayadp.org.au/event/tuesday-ten-pin-bowling-2/
ATTACH;FMTTYPE=image/jpeg:https://headwayadp.org.au/wp-content/uploads/2017/10/Bowling.jpg
END:VEVENT
BEGIN:VEVENT
DTSTART;TZID=UTC+0:20200204T130000
DTEND;TZID=UTC+0:20200204T135000
DTSTAMP:20200228T051736
CREATED:20200109T020641Z
LAST-MODIFIED:20200109T020641Z
UID:6419-1580821200-1580824200@headwayadp.org.au
SUMMARY:Yoga at Headway House
DESCRIPTION:Yoga classes are coming to Headway ADP! Yoga will take place every Tuesday from 1.00pm – 1.50pm at Headway House. Bring a face towel and your water bottle. Go on…Give it a Go! \n
URL:https://headwayadp.org.au/event/yoga-headway-house-43/
ATTACH;FMTTYPE=image/jpeg:https://headwayadp.org.au/wp-content/uploads/2020/01/yoga-picture.jpeg
END:VEVENT
BEGIN:VEVENT
DTSTART;TZID=UTC+0:20200205T110000
DTEND;TZID=UTC+0:20200205T120000
DTSTAMP:20200228T051736
CREATED:20200109T010917Z
LAST-MODIFIED:20200109T010917Z
UID:6339-1580900400-1580904000@headwayadp.org.au
SUMMARY:Wednesday Ten Pin Bowling
DESCRIPTION:Come along and join our fun Ten Pin Bowling each Tuesday! Have a chat and a laugh with the group . Have a ball at bowling… go for a strike! \n
URL:https://headwayadp.org.au/event/wednesday-ten-pin-bowling/
ATTACH;FMTTYPE=image/jpeg:https://headwayadp.org.au/wp-content/uploads/2018/10/Bowling-Tuesday.jpg
END:VEVENT
BEGIN:VEVENT
DTSTART;TZID=UTC+0:20200206T103000
DTEND;TZID=UTC+0:20200206T130000
DTSTAMP:20200228T051736
CREATED:20200108T044659Z
LAST-MODIFIED:20200108T044659Z
UID:6113-1580985000-1580994000@headwayadp.org.au
SUMMARY:B.E.A.T Program
DESCRIPTION:Come and join us at our B.E.A.T group each Thursday and Friday during school terms. \nBrain…. Exercise….. Art….. Talk…. every week is something new! \nOur B.E.A.T group consists of various activities including lumosity and card games\, stretching exercises and ball games\, arts and crafts and talking about relevant issues and interests of our participants. Come and join the fun. \nCatch up and have a coffee and light refreshments with fellow participants. \n
URL:https://headwayadp.org.au/event/b-e-t-program/
ATTACH;FMTTYPE=image/jpeg:https://headwayadp.org.au/wp-content/uploads/2018/11/B.E.A.T.jpg
END:VEVENT
BEGIN:VEVENT
DTSTART;TZID=UTC+0:20200207T103000
DTEND;TZID=UTC+0:20200207T130000
DTSTAMP:20200228T051736
CREATED:20200109T235541Z
LAST-MODIFIED:20200109T235541Z
UID:6578-1581071400-1581080400@headwayadp.org.au
SUMMARY:B.E.A.T Program
DESCRIPTION:Come and join us at our B.E.A.T group Thursday\, Friday and Saturday during school terms. \nBrain…. Exercise….. Art….. Talk…. every week is something new! \nOur B.E.A.T group consists of various activities including lumosity and card games\, stretching exercises and ball games\, arts and crafts and talking about relevant issues and interests of our participants. Come and join the fun. \nCatch up and have a coffee and light refreshments with fellow participants. \n
URL:https://headwayadp.org.au/event/b-e-t-program-40/
ATTACH;FMTTYPE=image/jpeg:https://headwayadp.org.au/wp-content/uploads/2018/11/B.E.A.T.jpg
END:VEVENT
BEGIN:VEVENT
DTSTART;TZID=UTC+0:20200208T103000
DTEND;TZID=UTC+0:20200208T130000
DTSTAMP:20200228T051736
CREATED:20200110T005042Z
LAST-MODIFIED:20200110T005042Z
UID:6658-1581157800-1581166800@headwayadp.org.au
SUMMARY:B.E.A.T Program
DESCRIPTION:Come and join us at our B.E.A.T group Thursday\, Friday and Saturday during school terms. \nBrain…. Exercise….. Art….. Talk…. every week is something new! \nOur B.E.A.T group consists of various activities including lumosity and card games\, stretching exercises and ball games\, arts and crafts and talking about relevant issues and interests of our participants. Come and join the fun. \nCatch up and have a coffee and light refreshments with fellow participants. \n
URL:https://headwayadp.org.au/event/b-e-t-program-79/
ATTACH;FMTTYPE=image/jpeg:https://headwayadp.org.au/wp-content/uploads/2018/11/B.E.A.T.jpg
END:VEVENT
BEGIN:VEVENT
DTSTART;TZID=UTC+0:20200210T103000
DTEND;TZID=UTC+0:20200210T123000
DTSTAMP:20200228T051736
CREATED:20191122T023251Z
LAST-MODIFIED:20191122T023251Z
UID:6091-1581330600-1581337800@headwayadp.org.au
SUMMARY:Monday Cooking Group
DESCRIPTION:Our Cooking Group run each Monday and Tuesday. Each week there are new and easy to recipes to follow. Cook up a storm in our kitchen\, then share a meal and enjoy the company of your fellow participants. Happy Cooking! \n
URL:https://headwayadp.org.au/event/monday-cooking-group-55/
ATTACH;FMTTYPE=image/jpeg:https://headwayadp.org.au/wp-content/uploads/2019/11/cooking.jpg
END:VEVENT
BEGIN:VEVENT
DTSTART;TZID=UTC+0:20200211T103000
DTEND;TZID=UTC+0:20200211T123000
DTSTAMP:20200228T051736
CREATED:20191122T023344Z
LAST-MODIFIED:20191122T023344Z
UID:6093-1581417000-1581424200@headwayadp.org.au
SUMMARY:Tuesday Cooking Group
DESCRIPTION:Our Cooking Group run each Monday and Tuesday. Each week there are new and easy to recipes to follow. Cook up a storm in our kitchen\, then share a meal and enjoy the company of your fellow participants. Happy Cooking! \n
URL:https://headwayadp.org.au/event/tuesday-cooking-group-51/
ATTACH;FMTTYPE=image/jpeg:https://headwayadp.org.au/wp-content/uploads/2019/11/cooking.jpg
END:VEVENT
BEGIN:VEVENT
DTSTART;TZID=UTC+0:20200211T110000
DTEND;TZID=UTC+0:20200211T120000
DTSTAMP:20200228T051736
CREATED:20200108T222241Z
LAST-MODIFIED:20200108T222241Z
UID:6135-1581418800-1581422400@headwayadp.org.au
SUMMARY:Tuesday Ten Pin Bowling
DESCRIPTION:Come along and join our fun Ten Pin Bowling each Tuesday! Have a chat and a laugh with the group . Have a ball at bowling… go for a strike! \n
URL:https://headwayadp.org.au/event/tuesday-ten-pin-bowling-3/
ATTACH;FMTTYPE=image/jpeg:https://headwayadp.org.au/wp-content/uploads/2017/10/Bowling.jpg
END:VEVENT
BEGIN:VEVENT
DTSTART;TZID=UTC+0:20200211T130000
DTEND;TZID=UTC+0:20200211T135000
DTSTAMP:20200228T051736
CREATED:20200109T035449Z
LAST-MODIFIED:20200109T035449Z
UID:6422-1581426000-1581429000@headwayadp.org.au
SUMMARY:Yoga at Headway ADP
DESCRIPTION:Yoga classes are coming to Headway ADP! Yoga will take place every Tuesday from 1.00pm – 1.50pm at Headway House. Bring a face towel and your water bottle. Go on…Give it a Go! \n
URL:https://headwayadp.org.au/event/yoga-headway-adp/
ATTACH;FMTTYPE=image/jpeg:https://headwayadp.org.au/wp-content/uploads/2020/01/yoga-picture.jpeg
END:VEVENT
BEGIN:VEVENT
DTSTART;TZID=UTC+0:20200212T110000
DTEND;TZID=UTC+0:20200212T120000
DTSTAMP:20200228T051736
CREATED:20200109T011017Z
LAST-MODIFIED:20200109T011017Z
UID:6341-1581505200-1581508800@headwayadp.org.au
SUMMARY:Wednesday Ten Pin Bowling
DESCRIPTION:Come along and join our fun Ten Pin Bowling each Tuesday! Have a chat and a laugh with the group . Have a ball at bowling… go for a strike! \n
URL:https://headwayadp.org.au/event/wednesday-ten-pin-bowling-2/
ATTACH;FMTTYPE=image/jpeg:https://headwayadp.org.au/wp-content/uploads/2018/10/Bowling-Tuesday.jpg
END:VEVENT
BEGIN:VEVENT
DTSTART;TZID=UTC+0:20200213T103000
DTEND;TZID=UTC+0:20200213T130000
DTSTAMP:20200228T051736
CREATED:20200108T044828Z
LAST-MODIFIED:20200108T044828Z
UID:6115-1581589800-1581598800@headwayadp.org.au
SUMMARY:B.E.A.T Program
DESCRIPTION:Come and join us at our B.E.A.T group each Thursday and Friday during school terms. \nBrain…. Exercise….. Art….. Talk…. every week is something new! \nOur B.E.A.T group consists of various activities including lumosity and card games\, stretching exercises and ball games\, arts and crafts and talking about relevant issues and interests of our participants. Come and join the fun. \nCatch up and have a coffee and light refreshments with fellow participants. \n
URL:https://headwayadp.org.au/event/b-e-t-program-2/
ATTACH;FMTTYPE=image/jpeg:https://headwayadp.org.au/wp-content/uploads/2018/11/B.E.A.T.jpg
END:VEVENT
BEGIN:VEVENT
DTSTART;TZID=UTC+0:20200214T103000
DTEND;TZID=UTC+0:20200214T130000
DTSTAMP:20200228T051736
CREATED:20200109T235642Z
LAST-MODIFIED:20200109T235642Z
UID:6580-1581676200-1581685200@headwayadp.org.au
SUMMARY:B.E.A.T Program
DESCRIPTION:Come and join us at our B.E.A.T group Thursday\, Friday and Saturday during school terms. \nBrain…. Exercise….. Art….. Talk…. every week is something new! \nOur B.E.A.T group consists of various activities including lumosity and card games\, stretching exercises and ball games\, arts and crafts and talking about relevant issues and interests of our participants. Come and join the fun. \nCatch up and have a coffee and light refreshments with fellow participants. \n
URL:https://headwayadp.org.au/event/b-e-t-program-41/
ATTACH;FMTTYPE=image/jpeg:https://headwayadp.org.au/wp-content/uploads/2018/11/B.E.A.T.jpg
END:VEVENT
BEGIN:VEVENT
DTSTART;TZID=UTC+0:20200215T103000
DTEND;TZID=UTC+0:20200215T130000
DTSTAMP:20200228T051736
CREATED:20200110T005155Z
LAST-MODIFIED:20200110T005155Z
UID:6661-1581762600-1581771600@headwayadp.org.au
SUMMARY:B.E.A.T Program
DESCRIPTION:Come and join us at our B.E.A.T group Thursday\, Friday and Saturday during school terms. \nBrain…. Exercise….. Art….. Talk…. every week is something new! \nOur B.E.A.T group consists of various activities including lumosity and card games\, stretching exercises and ball games\, arts and crafts and talking about relevant issues and interests of our participants. Come and join the fun. \nCatch up and have a coffee and light refreshments with fellow participants. \n
URL:https://headwayadp.org.au/event/b-e-t-program-80/
ATTACH;FMTTYPE=image/jpeg:https://headwayadp.org.au/wp-content/uploads/2018/11/B.E.A.T.jpg
END:VEVENT
BEGIN:VEVENT
DTSTART;TZID=UTC+0:20200217T103000
DTEND;TZID=UTC+0:20200217T123000
DTSTAMP:20200228T051736
CREATED:20191122T023514Z
LAST-MODIFIED:20191122T023514Z
UID:6095-1581935400-1581942600@headwayadp.org.au
SUMMARY:Monday Cooking Group
DESCRIPTION:Our Cooking Group run each Monday and Tuesday. Each week there are new and easy to recipes to follow. Cook up a storm in our kitchen\, then share a meal and enjoy the company of your fellow participants. Happy Cooking! \n
URL:https://headwayadp.org.au/event/monday-cooking-group-56/
ATTACH;FMTTYPE=image/jpeg:https://headwayadp.org.au/wp-content/uploads/2019/11/cooking.jpg
END:VEVENT
BEGIN:VEVENT
DTSTART;TZID=UTC+0:20200218T103000
DTEND;TZID=UTC+0:20200218T123000
DTSTAMP:20200228T051736
CREATED:20191122T023614Z
LAST-MODIFIED:20191122T023614Z
UID:6097-1582021800-1582029000@headwayadp.org.au
SUMMARY:Tuesday Cooking Group
DESCRIPTION:Our Cooking Group run each Monday and Tuesday. Each week there are new and easy to recipes to follow. Cook up a storm in our kitchen\, then share a meal and enjoy the company of your fellow participants. Happy Cooking! \n
URL:https://headwayadp.org.au/event/tuesday-cooking-group-52/
ATTACH;FMTTYPE=image/jpeg:https://headwayadp.org.au/wp-content/uploads/2019/11/cooking.jpg
END:VEVENT
BEGIN:VEVENT
DTSTART;TZID=UTC+0:20200218T110000
DTEND;TZID=UTC+0:20200218T120000
DTSTAMP:20200228T051736
CREATED:20200108T222450Z
LAST-MODIFIED:20200108T222450Z
UID:6137-1582023600-1582027200@headwayadp.org.au
SUMMARY:Tuesday Ten Pin Bowling
DESCRIPTION:Come along and join our fun Ten Pin Bowling each Tuesday! Have a chat and a laugh with the group . Have a ball at bowling… go for a strike! \n
URL:https://headwayadp.org.au/event/tuesday-ten-pin-bowling-4/
ATTACH;FMTTYPE=image/jpeg:https://headwayadp.org.au/wp-content/uploads/2017/10/Bowling.jpg
END:VEVENT
BEGIN:VEVENT
DTSTART;TZID=UTC+0:20200218T130000
DTEND;TZID=UTC+0:20200218T135000
DTSTAMP:20200228T051736
CREATED:20200109T035549Z
LAST-MODIFIED:20200109T035549Z
UID:6424-1582030800-1582033800@headwayadp.org.au
SUMMARY:Yoga at Headway House
DESCRIPTION:Yoga classes are coming to Headway ADP! Yoga will take place every Tuesday from 1.00pm – 1.50pm at Headway House. Bring a face towel and your water bottle. Go on…Give it a Go! \n
URL:https://headwayadp.org.au/event/yoga-headway-house-44/
ATTACH;FMTTYPE=image/jpeg:https://headwayadp.org.au/wp-content/uploads/2020/01/yoga-picture.jpeg
END:VEVENT
BEGIN:VEVENT
DTSTART;TZID=UTC+0:20200219T110000
DTEND;TZID=UTC+0:20200219T120000
DTSTAMP:20200228T051736
CREATED:20200109T011105Z
LAST-MODIFIED:20200109T011105Z
UID:6343-1582110000-1582113600@headwayadp.org.au
SUMMARY:Wednesday Ten Pin Bowling
DESCRIPTION:Come along and join our fun Ten Pin Bowling each Tuesday! Have a chat and a laugh with the group . Have a ball at bowling… go for a strike! \n
URL:https://headwayadp.org.au/event/wednesday-ten-pin-bowling-3/
ATTACH;FMTTYPE=image/jpeg:https://headwayadp.org.au/wp-content/uploads/2018/10/Bowling-Tuesday.jpg
END:VEVENT
BEGIN:VEVENT
DTSTART;TZID=UTC+0:20200220T103000
DTEND;TZID=UTC+0:20200220T130000
DTSTAMP:20200228T051736
CREATED:20200108T045130Z
LAST-MODIFIED:20200108T045130Z
UID:6117-1582194600-1582203600@headwayadp.org.au
SUMMARY:B.E.A.T Program
DESCRIPTION:Come and join us at our B.E.A.T group each Thursday and Friday during school terms. \nBrain…. Exercise….. Art….. Talk…. every week is something new! \nOur B.E.A.T group consists of various activities including lumosity and card games\, stretching exercises and ball games\, arts and crafts and talking about relevant issues and interests of our participants. Come and join the fun. \nCatch up and have a coffee and light refreshments with fellow participants. \n
URL:https://headwayadp.org.au/event/b-e-t-program-3/
ATTACH;FMTTYPE=image/jpeg:https://headwayadp.org.au/wp-content/uploads/2018/11/B.E.A.T.jpg
END:VEVENT
BEGIN:VEVENT
DTSTART;TZID=UTC+0:20200221T100000
DTEND;TZID=UTC+0:20200221T153000
DTSTAMP:20200228T051736
CREATED:20191112T234407Z
LAST-MODIFIED:20191112T234407Z
UID:5966-1582279200-1582299000@headwayadp.org.au
SUMMARY:BALMORAL BEACH -TAKE AWAY LUNCH BOTTOM OF THE HARBOUR MOSMAN
DESCRIPTION:TREAT YOURSELF TO A TAKE AWAY LUNCH FORM THE FAMOUS BOTTOM OF THE HARBOUR. MEET THE CREW AT 21 THE ESPLANADE MOSMAN \n
URL:https://headwayadp.org.au/event/balmoral-beach-take-away-lunch-bottom-harbour-mosman/
ATTACH;FMTTYPE=image/png:https://headwayadp.org.au/wp-content/uploads/2019/11/BALMORAL.png
END:VEVENT
BEGIN:VEVENT
DTSTART;TZID=UTC+0:20200221T103000
DTEND;TZID=UTC+0:20200221T130000
DTSTAMP:20200228T051736
CREATED:20200109T235731Z
LAST-MODIFIED:20200109T235731Z
UID:6582-1582281000-1582290000@headwayadp.org.au
SUMMARY:B.E.A.T Program
DESCRIPTION:Come and join us at our B.E.A.T group Thursday\, Friday and Saturday during school terms. \nBrain…. Exercise….. Art….. Talk…. every week is something new! \nOur B.E.A.T group consists of various activities including lumosity and card games\, stretching exercises and ball games\, arts and crafts and talking about relevant issues and interests of our participants. Come and join the fun. \nCatch up and have a coffee and light refreshments with fellow participants. \n
URL:https://headwayadp.org.au/event/b-e-t-program-42/
ATTACH;FMTTYPE=image/jpeg:https://headwayadp.org.au/wp-content/uploads/2018/11/B.E.A.T.jpg
END:VEVENT
BEGIN:VEVENT
DTSTART;TZID=UTC+0:20200222T103000
DTEND;TZID=UTC+0:20200222T130000
DTSTAMP:20200228T051736
CREATED:20200110T005239Z
LAST-MODIFIED:20200110T005239Z
UID:6663-1582367400-1582376400@headwayadp.org.au
SUMMARY:B.E.A.T Program
DESCRIPTION:Come and join us at our B.E.A.T group Thursday\, Friday and Saturday during school terms. \nBrain…. Exercise….. Art….. Talk…. every week is something new! \nOur B.E.A.T group consists of various activities including lumosity and card games\, stretching exercises and ball games\, arts and crafts and talking about relevant issues and interests of our participants. Come and join the fun. \nCatch up and have a coffee and light refreshments with fellow participants. \n
URL:https://headwayadp.org.au/event/b-e-t-program-81/
ATTACH;FMTTYPE=image/jpeg:https://headwayadp.org.au/wp-content/uploads/2018/11/B.E.A.T.jpg
END:VEVENT
BEGIN:VEVENT
DTSTART;TZID=UTC+0:20200224T103000
DTEND;TZID=UTC+0:20200224T123000
DTSTAMP:20200228T051736
CREATED:20200108T223815Z
LAST-MODIFIED:20200108T223815Z
UID:6156-1582540200-1582547400@headwayadp.org.au
SUMMARY:Monday Cooking Group
DESCRIPTION:Our Cooking Group run each Monday and Tuesday. Each week there are new and easy to recipes to follow. Cook up a storm in our kitchen\, then share a meal and enjoy the company of your fellow participants. Happy Cooking! \n
URL:https://headwayadp.org.au/event/monday-cooking-group-57/
ATTACH;FMTTYPE=image/jpeg:https://headwayadp.org.au/wp-content/uploads/2019/11/cooking.jpg
END:VEVENT
BEGIN:VEVENT
DTSTART;TZID=UTC+0:20200225T103000
DTEND;TZID=UTC+0:20200225T123000
DTSTAMP:20200228T051736
CREATED:20200108T015213Z
LAST-MODIFIED:20200108T015213Z
UID:6099-1582626600-1582633800@headwayadp.org.au
SUMMARY:Tuesday Cooking Group
DESCRIPTION:Our Cooking Group run each Monday and Tuesday. Each week there are new and easy to recipes to follow. Cook up a storm in our kitchen\, then share a meal and enjoy the company of your fellow participants. Happy Cooking! \n
URL:https://headwayadp.org.au/event/tuesday-cooking-group-53/
ATTACH;FMTTYPE=image/jpeg:https://headwayadp.org.au/wp-content/uploads/2019/11/cooking.jpg
END:VEVENT
BEGIN:VEVENT
DTSTART;TZID=UTC+0:20200225T110000
DTEND;TZID=UTC+0:20200225T120000
DTSTAMP:20200228T051736
CREATED:20200108T222605Z
LAST-MODIFIED:20200108T222605Z
UID:6139-1582628400-1582632000@headwayadp.org.au
SUMMARY:Tuesday Ten Pin Bowling
DESCRIPTION:Come along and join our fun Ten Pin Bowling each Tuesday! Have a chat and a laugh with the group . Have a ball at bowling… go for a strike! \n
URL:https://headwayadp.org.au/event/tuesday-ten-pin-bowling-5/
ATTACH;FMTTYPE=image/jpeg:https://headwayadp.org.au/wp-content/uploads/2017/10/Bowling.jpg
END:VEVENT
BEGIN:VEVENT
DTSTART;TZID=UTC+0:20200225T130000
DTEND;TZID=UTC+0:20200225T135000
DTSTAMP:20200228T051736
CREATED:20200109T035748Z
LAST-MODIFIED:20200109T035748Z
UID:6426-1582635600-1582638600@headwayadp.org.au
SUMMARY:Yoga at Headway House
DESCRIPTION:Yoga classes are coming to Headway ADP! Yoga will take place every Tuesday from 1.00pm – 1.50pm at Headway House. Bring a face towel and your water bottle. Go on…Give it a Go! \n
URL:https://headwayadp.org.au/event/yoga-headway-house-45/
ATTACH;FMTTYPE=image/jpeg:https://headwayadp.org.au/wp-content/uploads/2020/01/yoga-picture.jpeg
END:VEVENT
BEGIN:VEVENT
DTSTART;TZID=UTC+0:20200226T110000
DTEND;TZID=UTC+0:20200226T120000
DTSTAMP:20200228T051736
CREATED:20200109T011232Z
LAST-MODIFIED:20200109T011232Z
UID:6345-1582714800-1582718400@headwayadp.org.au
SUMMARY:Wednesday Ten Pin Bowling
DESCRIPTION:Come along and join our fun Ten Pin Bowling each Tuesday! Have a chat and a laugh with the group . Have a ball at bowling… go for a strike! \n
URL:https://headwayadp.org.au/event/wednesday-ten-pin-bowling-4/
ATTACH;FMTTYPE=image/jpeg:https://headwayadp.org.au/wp-content/uploads/2018/10/Bowling-Tuesday.jpg
END:VEVENT
BEGIN:VEVENT
DTSTART;TZID=UTC+0:20200227T103000
DTEND;TZID=UTC+0:20200227T130000
DTSTAMP:20200228T051736
CREATED:20200108T045216Z
LAST-MODIFIED:20200108T045216Z
UID:6119-1582799400-1582808400@headwayadp.org.au
SUMMARY:B.E.A.T Program
DESCRIPTION:Come and join us at our B.E.A.T group each Thursday and Friday during school terms. \nBrain…. Exercise….. Art….. Talk…. every week is something new! \nOur B.E.A.T group consists of various activities including lumosity and card games\, stretching exercises and ball games\, arts and crafts and talking about relevant issues and interests of our participants. Come and join the fun. \nCatch up and have a coffee and light refreshments with fellow participants. \n
URL:https://headwayadp.org.au/event/b-e-t-program-4/
ATTACH;FMTTYPE=image/jpeg:https://headwayadp.org.au/wp-content/uploads/2018/11/B.E.A.T.jpg
END:VEVENT
BEGIN:VEVENT
DTSTART;TZID=UTC+0:20200228T103000
DTEND;TZID=UTC+0:20200228T130000
DTSTAMP:20200228T051736
CREATED:20200109T235836Z
LAST-MODIFIED:20200109T235836Z
UID:6584-1582885800-1582894800@headwayadp.org.au
SUMMARY:B.E.A.T Program
DESCRIPTION:Come and join us at our B.E.A.T group Thursday\, Friday and Saturday during school terms. \nBrain…. Exercise….. Art….. Talk…. every week is something new! \nOur B.E.A.T group consists of various activities including lumosity and card games\, stretching exercises and ball games\, arts and crafts and talking about relevant issues and interests of our participants. Come and join the fun. \nCatch up and have a coffee and light refreshments with fellow participants. \n
URL:https://headwayadp.org.au/event/b-e-t-program-43/
ATTACH;FMTTYPE=image/jpeg:https://headwayadp.org.au/wp-content/uploads/2018/11/B.E.A.T.jpg
END:VEVENT
BEGIN:VEVENT
DTSTART;TZID=UTC+0:20200229T103000
DTEND;TZID=UTC+0:20200229T130000
DTSTAMP:20200228T051736
CREATED:20200110T005338Z
LAST-MODIFIED:20200110T005338Z
UID:6665-1582972200-1582981200@headwayadp.org.au
SUMMARY:B.E.A.T Program
DESCRIPTION:Come and join us at our B.E.A.T group Thursday\, Friday and Saturday during school terms. \nBrain…. Exercise….. Art….. Talk…. every week is something new! \nOur B.E.A.T group consists of various activities including lumosity and card games\, stretching exercises and ball games\, arts and crafts and talking about relevant issues and interests of our participants. Come and join the fun. \nCatch up and have a coffee and light refreshments with fellow participants. \n
URL:https://headwayadp.org.au/event/b-e-t-program-82/
ATTACH;FMTTYPE=image/jpeg:https://headwayadp.org.au/wp-content/uploads/2018/11/B.E.A.T.jpg
END:VEVENT
END:VCALENDAR